BEGIN:VCALENDAR
VERSION:2.0
PRODID:-//eventon.com NONSGML v1.0//EN
BEGIN:VEVENT
UID:69ec2ce90f3e9
DTSTAMP:20260424T215433
DTSTART:20181107T023000Z
DTEND:20181107T045000Z
LOCATION:
SUMMARY:Juston Hargrove
DESCRIPTION: Juston Hargrove
END:VEVENT
END:VCALENDAR