BEGIN:VCALENDAR
VERSION:2.0
PRODID:-//eventon.com NONSGML v1.0//EN
BEGIN:VEVENT
UID:69ec2d40be3c0
DTSTAMP:20260424T215600
DTSTART:20181106T023000Z
DTEND:20181106T045000Z
LOCATION:Speakeasy 412 Congress Ave\,  Austin\,  Texas 78701
SUMMARY:Open Mic Night With Ronnie Hall + TMMP Artist Showcase in the Music Lounge
DESCRIPTION: Open Mic Night With Ronnie Hall + TMMP Artist Showcase in the Music Lounge
END:VEVENT
END:VCALENDAR