BEGIN:VCALENDAR
VERSION:2.0
PRODID:-//eventon.com NONSGML v1.0//EN
BEGIN:VEVENT
UID:69eca0488d6b7
DTSTAMP:20260425T060648
DTSTART:20181028T024500Z
DTEND:20181028T045000Z
LOCATION:
SUMMARY:The Motts
DESCRIPTION: The Motts
END:VEVENT
END:VCALENDAR