BEGIN:VCALENDAR
VERSION:2.0
PRODID:-//eventon.com NONSGML v1.0//EN
BEGIN:VEVENT
UID:69e86927f386f
DTSTAMP:20260422T012231
DTSTART:20180609T024500Z
DTEND:20180609T045000Z
LOCATION:Speakeasy 412 Congress Ave\,  Austin\,  Texas 78701
SUMMARY:Rock Hard
DESCRIPTION: Rock Hard
END:VEVENT
END:VCALENDAR