BEGIN:VCALENDAR
VERSION:2.0
PRODID:-//eventon.com NONSGML v1.0//EN
BEGIN:VEVENT
UID:69e823d9a9cc1
DTSTAMP:20260421T202649
DTSTART:20180606T023000Z
DTEND:20180606T045000Z
LOCATION:
SUMMARY:Trent Minter
DESCRIPTION: Trent Minter
END:VEVENT
END:VCALENDAR