BEGIN:VCALENDAR
VERSION:2.0
PRODID:-//eventon.com NONSGML v1.0//EN
BEGIN:VEVENT
UID:69e7d58b8f1b4
DTSTAMP:20260421T145243
DTSTART:20180603T050000Z
DTEND:20180604T045900Z
LOCATION:Speakeasy 412 Congress Ave\,  Austin\,  Texas 78701
SUMMARY:Book Your Private Event!
DESCRIPTION: Book Your Private Event!
END:VEVENT
END:VCALENDAR