BEGIN:VCALENDAR
VERSION:2.0
PRODID:-//eventon.com NONSGML v1.0//EN
BEGIN:VEVENT
UID:69e7bffb241f2
DTSTAMP:20260421T132043
DTSTART:20180603T024500Z
DTEND:20180603T045000Z
LOCATION:
SUMMARY:Austin Party Band
DESCRIPTION: Austin Party Band
END:VEVENT
END:VCALENDAR