BEGIN:VCALENDAR
VERSION:2.0
PRODID:-//eventon.com NONSGML v1.0//EN
BEGIN:VEVENT
UID:69e7a9ce9d4a2
DTSTAMP:20260421T114606
DTSTART:20180602T024500Z
DTEND:20180602T045000Z
LOCATION:Speakeasy 412 Congress Ave\,  Austin\,  Texas 78701
SUMMARY:Trick Shot
DESCRIPTION: Trick Shot
END:VEVENT
END:VCALENDAR