BEGIN:VCALENDAR
VERSION:2.0
PRODID:-//eventon.com NONSGML v1.0//EN
BEGIN:VEVENT
UID:69e7951b2df18
DTSTAMP:20260421T101747
DTSTART:20180601T023000Z
DTEND:20180601T045000Z
LOCATION:
SUMMARY:Jo James Band
DESCRIPTION: Jo James Band
END:VEVENT
END:VCALENDAR