BEGIN:VCALENDAR
VERSION:2.0
PRODID:-//eventon.com NONSGML v1.0//EN
BEGIN:VEVENT
UID:69e77e420bf98
DTSTAMP:20260421T084018
DTSTART:20180531T023000Z
DTEND:20180531T045000Z
LOCATION:
SUMMARY:Vagabond Band
DESCRIPTION: Vagabond Band
END:VEVENT
END:VCALENDAR