BEGIN:VCALENDAR
VERSION:2.0
PRODID:-//eventon.com NONSGML v1.0//EN
BEGIN:VEVENT
UID:69e76803baab8
DTSTAMP:20260421T070523
DTSTART:20180528T000000Z
DTEND:20180528T045000Z
LOCATION:
SUMMARY:Memorial Day Weekend Sunday Rooftop Party
DESCRIPTION: https://www.facebook.com/events/596917174006506/
END:VEVENT
END:VCALENDAR