BEGIN:VCALENDAR
VERSION:2.0
PRODID:-//eventon.com NONSGML v1.0//EN
BEGIN:VEVENT
UID:69e7810536366
DTSTAMP:20260421T085205
DTSTART:20180805T024500Z
DTEND:20180805T045000Z
LOCATION:
SUMMARY:The Motts
DESCRIPTION: The Motts
END:VEVENT
END:VCALENDAR