BEGIN:VCALENDAR
VERSION:2.0
PRODID:-//eventon.com NONSGML v1.0//EN
BEGIN:VEVENT
UID:69e798e995ef2
DTSTAMP:20260421T103401
DTSTART:20180524T023000Z
DTEND:20180524T045000Z
LOCATION:
SUMMARY:Geno Gottschall Band
DESCRIPTION: Geno Gottschall Band
END:VEVENT
END:VCALENDAR