BEGIN:VCALENDAR
VERSION:2.0
PRODID:-//eventon.com NONSGML v1.0//EN
BEGIN:VEVENT
UID:69e7adca949df
DTSTAMP:20260421T120306
DTSTART:20180517T023000Z
DTEND:20180517T045000Z
LOCATION:
SUMMARY:Juston Hargrove Band
DESCRIPTION: Juston Hargrove Band
END:VEVENT
END:VCALENDAR