BEGIN:VCALENDAR
VERSION:2.0
PRODID:-//eventon.com NONSGML v1.0//EN
BEGIN:VEVENT
UID:69e7c5dfd0e5a
DTSTAMP:20260421T134551
DTSTART:20180518T000000Z
DTEND:20180518T045000Z
LOCATION:
SUMMARY:Internet Marketing Party
DESCRIPTION: Internet Marketing Party
END:VEVENT
END:VCALENDAR