BEGIN:VCALENDAR
VERSION:2.0
PRODID:-//eventon.com NONSGML v1.0//EN
BEGIN:VEVENT
UID:69e9a14b9b01c
DTSTAMP:20260422T233419
DTSTART:20170611T024500Z
DTEND:20170611T045000Z
LOCATION:
SUMMARY:The Motts
DESCRIPTION: The Motts 9:45pm to 1:45am
END:VEVENT
END:VCALENDAR