BEGIN:VCALENDAR
VERSION:2.0
PRODID:-//eventon.com NONSGML v1.0//EN
BEGIN:VEVENT
UID:69e985f0e415e
DTSTAMP:20260422T213736
DTSTART:20170611T024500Z
DTEND:20170611T045000Z
LOCATION:Speakeasy 412 Congress Ave\,  Austin\,  Texas 78701
SUMMARY:Chris Castaneda Project
DESCRIPTION: Chris Castaneda Project
END:VEVENT
END:VCALENDAR