BEGIN:VCALENDAR
VERSION:2.0
PRODID:-//eventon.com NONSGML v1.0//EN
BEGIN:VEVENT
UID:69e9710aa7f0e
DTSTAMP:20260422T200826
DTSTART:20170604T024500Z
DTEND:20170604T045000Z
LOCATION:
SUMMARY:80H Project (+ Kimberly Krohn Happy Hour at 7 PM)
DESCRIPTION: 80H Project (+ Kimberly Krohn Happy Hour at 7 PM)
END:VEVENT
END:VCALENDAR