BEGIN:VCALENDAR
VERSION:2.0
PRODID:-//eventon.com NONSGML v1.0//EN
BEGIN:VEVENT
UID:69e943507047e
DTSTAMP:20260422T165320
DTSTART:20170624T180000Z
DTEND:20170624T220000Z
LOCATION:
SUMMARY:Daybird Local Music Series - Aaron Stephens & Golden Hour Quartet
DESCRIPTION: Daybird Local Music Series - Aaron Stephens & Golden Hour Quartet
END:VEVENT
END:VCALENDAR