BEGIN:VCALENDAR
VERSION:2.0
PRODID:-//eventon.com NONSGML v1.0//EN
BEGIN:VEVENT
UID:69e92ca37a67f
DTSTAMP:20260422T151635
DTSTART:20170617T180000Z
DTEND:20170617T220000Z
LOCATION:
SUMMARY:Daybird Local Music Series - American Dreamer & Akina Adderly
DESCRIPTION: Daybird Local Music Series - American Dreamer & Akina Adderly
END:VEVENT
END:VCALENDAR