BEGIN:VCALENDAR
VERSION:2.0
PRODID:-//eventon.com NONSGML v1.0//EN
BEGIN:VEVENT
UID:69e91a1aa74d0
DTSTAMP:20260422T135730
DTSTART:20170610T180000Z
DTEND:20170610T220000Z
LOCATION:
SUMMARY:Daybird Local Music Series - Ben Cina & Ruby Jane
DESCRIPTION: Daybird Local Music Series - Ben Cina & Ruby Jane
END:VEVENT
END:VCALENDAR