BEGIN:VCALENDAR
VERSION:2.0
PRODID:-//eventon.com NONSGML v1.0//EN
BEGIN:VEVENT
UID:69e900b5eb81b
DTSTAMP:20260422T120909
DTSTART:20170603T180000Z
DTEND:20170603T220000Z
LOCATION:
SUMMARY:Daybird Local Music Series - Malia Grace & Dave Scher
DESCRIPTION: Daybird Local Music Series - Malia Grace & Dave Scher
END:VEVENT
END:VCALENDAR