BEGIN:VCALENDAR
VERSION:2.0
PRODID:-//eventon.com NONSGML v1.0//EN
BEGIN:VEVENT
UID:69e8d04c022d1
DTSTAMP:20260422T084236
DTSTART:20170614T023000Z
DTEND:20170614T045000Z
LOCATION:
SUMMARY:Kevin Hahn
DESCRIPTION: Kevin Hahn
END:VEVENT
END:VCALENDAR