BEGIN:VCALENDAR
VERSION:2.0
PRODID:-//eventon.com NONSGML v1.0//EN
BEGIN:VEVENT
UID:69e8b8c035e43
DTSTAMP:20260422T070208
DTSTART:20170514T024500Z
DTEND:20170514T045000Z
LOCATION:Speakeasy 412 Congress Ave\,  Austin\,  Texas 78701
SUMMARY:Steady Legend (+ Nick Swift Happy Hour)
DESCRIPTION: 7:00pm Nick Swift 9:45pm Steady Legend
END:VEVENT
END:VCALENDAR