BEGIN:VCALENDAR
VERSION:2.0
PRODID:-//eventon.com NONSGML v1.0//EN
BEGIN:VEVENT
UID:69e8a64f0022e
DTSTAMP:20260422T054327
DTSTART:20170610T024500Z
DTEND:20170610T045000Z
LOCATION:Speakeasy 412 Congress Ave\,  Austin\,  Texas 78701
SUMMARY:Rock Hard
DESCRIPTION: Rock Hard
END:VEVENT
END:VCALENDAR