BEGIN:VCALENDAR
VERSION:2.0
PRODID:-//eventon.com NONSGML v1.0//EN
BEGIN:VEVENT
UID:69e889f0e2a2a
DTSTAMP:20260422T034224
DTSTART:20170609T023000Z
DTEND:20170609T045000Z
LOCATION:
SUMMARY:Marshall Moon & The Vagabonds
DESCRIPTION: Marshall Moon & The Vagabonds
END:VEVENT
END:VCALENDAR