BEGIN:VCALENDAR
VERSION:2.0
PRODID:-//eventon.com NONSGML v1.0//EN
BEGIN:VEVENT
UID:69e873a84ecd2
DTSTAMP:20260422T020720
DTSTART:20170608T023000Z
DTEND:20170608T045000Z
LOCATION:
SUMMARY:Lucas Johnson Band
DESCRIPTION: Lucas Johnson Band
END:VEVENT
END:VCALENDAR