BEGIN:VCALENDAR
VERSION:2.0
PRODID:-//eventon.com NONSGML v1.0//EN
BEGIN:VEVENT
UID:69e85ac19628b
DTSTAMP:20260422T002105
DTSTART:20170607T023000Z
DTEND:20170607T045000Z
LOCATION:Speakeasy 412 Congress Ave\,  Austin\,  Texas 78701
SUMMARY:Kenny McCardle
DESCRIPTION: Kenny McCardle
END:VEVENT
END:VCALENDAR