BEGIN:VCALENDAR
VERSION:2.0
PRODID:-//eventon.com NONSGML v1.0//EN
BEGIN:VEVENT
UID:69e8430a340cd
DTSTAMP:20260421T223954
DTSTART:20170430T024500Z
DTEND:20170430T045000Z
LOCATION:
SUMMARY:80H Project (+ Kimberly Krohn Happy Hour)
DESCRIPTION: 7:00pm Kimberly Krohn Happy Hour 9:45pm 80H Project
END:VEVENT
END:VCALENDAR