BEGIN:VCALENDAR
VERSION:2.0
PRODID:-//eventon.com NONSGML v1.0//EN
BEGIN:VEVENT
UID:69e82a173221a
DTSTAMP:20260421T205327
DTSTART:20170603T030000Z
DTEND:20170603T045000Z
LOCATION:Speakeasy 412 Congress Ave\,  Austin\,  Texas 78701
SUMMARY:Sauce
DESCRIPTION: Sauce
END:VEVENT
END:VCALENDAR