BEGIN:VCALENDAR
VERSION:2.0
PRODID:-//eventon.com NONSGML v1.0//EN
BEGIN:VEVENT
UID:69e7f9e748cb5
DTSTAMP:20260421T172751
DTSTART:20170601T020000Z
DTEND:20170601T045000Z
LOCATION:
SUMMARY:Josh Klaus
DESCRIPTION: Josh Klaus
END:VEVENT
END:VCALENDAR