BEGIN:VCALENDAR
VERSION:2.0
PRODID:-//eventon.com NONSGML v1.0//EN
BEGIN:VEVENT
UID:69e7e2b50861c
DTSTAMP:20260421T154853
DTSTART:20170620T003000Z
DTEND:20170620T045000Z
LOCATION:
SUMMARY:Heart of Technology Benefit Party
DESCRIPTION: Heart of Technology Benefit Party
END:VEVENT
END:VCALENDAR