BEGIN:VCALENDAR
VERSION:2.0
PRODID:-//eventon.com NONSGML v1.0//EN
BEGIN:VEVENT
UID:69e7c8547798d
DTSTAMP:20260421T135620
DTSTART:20170513T024500Z
DTEND:20170513T045000Z
LOCATION:Speakeasy 412 Congress Ave\,  Austin\,  Texas 78701
SUMMARY:Plush (+ Sheridan Reed Happy Hour)
DESCRIPTION: 7 - 9 PM Sheridan Reed 9:45 PM Plush &nbsp;
END:VEVENT
END:VCALENDAR