BEGIN:VCALENDAR
VERSION:2.0
PRODID:-//eventon.com NONSGML v1.0//EN
BEGIN:VEVENT
UID:69e7c7ae6daa5
DTSTAMP:20260421T135334
DTSTART:20170529T020000Z
DTEND:20170529T045000Z
LOCATION:
SUMMARY:Encore! (+ Terrace DJ Party with Qua'Leh & ZKosta)
DESCRIPTION: Encore! (+ Terrace DJ Party with Qua'Leh & ZKosta)
END:VEVENT
END:VCALENDAR