BEGIN:VCALENDAR
VERSION:2.0
PRODID:-//eventon.com NONSGML v1.0//EN
BEGIN:VEVENT
UID:69e79b3ed5210
DTSTAMP:20260421T104358
DTSTART:20170507T024500Z
DTEND:20170507T045000Z
LOCATION:
SUMMARY:Distinguished Soundz (+ Ryan Hutchens Happy Hour)
DESCRIPTION: 7:00pm Ryan Hutchens 9:45pm Distinguished Soundz
END:VEVENT
END:VCALENDAR