BEGIN:VCALENDAR
VERSION:2.0
PRODID:-//eventon.com NONSGML v1.0//EN
BEGIN:VEVENT
UID:69e786406ed0f
DTSTAMP:20260421T091424
DTSTART:20170525T023000Z
DTEND:20170525T045000Z
LOCATION:
SUMMARY:Bruce 3 and the Revenge
DESCRIPTION: Bruce 3 and the Revenge
END:VEVENT
END:VCALENDAR