BEGIN:VCALENDAR
VERSION:2.0
PRODID:-//eventon.com NONSGML v1.0//EN
BEGIN:VEVENT
UID:69e7727e250b8
DTSTAMP:20260421T075006
DTSTART:20170420T010000Z
DTEND:20170420T045000Z
LOCATION:
SUMMARY:Cabernet Cabaret
DESCRIPTION: 
END:VEVENT
END:VCALENDAR