BEGIN:VCALENDAR
VERSION:2.0
PRODID:-//eventon.com NONSGML v1.0//EN
BEGIN:VEVENT
UID:69e7576d07840
DTSTAMP:20260421T055437
DTSTART:20170419T023000Z
DTEND:20170419T045000Z
LOCATION:
SUMMARY:Jamie Thomas
DESCRIPTION: Jamie Thomas
END:VEVENT
END:VCALENDAR