BEGIN:VCALENDAR
VERSION:2.0
PRODID:-//eventon.com NONSGML v1.0//EN
BEGIN:VEVENT
UID:69e73efabc850
DTSTAMP:20260421T041018
DTSTART:20170531T023000Z
DTEND:20170531T045000Z
LOCATION:
SUMMARY:Benjamin Griffith
DESCRIPTION: Benjamin Griffith
END:VEVENT
END:VCALENDAR