BEGIN:VCALENDAR
VERSION:2.0
PRODID:-//eventon.com NONSGML v1.0//EN
BEGIN:VEVENT
UID:69e726c7b5cf5
DTSTAMP:20260421T022703
DTSTART:20170503T023000Z
DTEND:20170503T045000Z
LOCATION:
SUMMARY:Benjamin Griffith
DESCRIPTION: Benjamin Griffith
END:VEVENT
END:VCALENDAR