BEGIN:VCALENDAR
VERSION:2.0
PRODID:-//eventon.com NONSGML v1.0//EN
BEGIN:VEVENT
UID:69e70c6e321e3
DTSTAMP:20260421T003438
DTSTART:20170528T024500Z
DTEND:20170528T045000Z
LOCATION:Speakeasy 412 Congress Ave\,  Austin\,  Texas 78701
SUMMARY:Suede (+ Skip Monday Happy Hour)
DESCRIPTION: Suede (+ Skip Monday Happy Hour)
END:VEVENT
END:VCALENDAR