BEGIN:VCALENDAR
VERSION:2.0
PRODID:-//eventon.com NONSGML v1.0//EN
BEGIN:VEVENT
UID:69e6f3182340f
DTSTAMP:20260420T224632
DTSTART:20170527T024500Z
DTEND:20170527T045000Z
LOCATION:Speakeasy 412 Congress Ave\,  Austin\,  Texas 78701
SUMMARY:Thomas and Hall (+ Matt Creaton Happy Hour)
DESCRIPTION: 7:00pm Matt Creaton 9:45pm Thomas & Hall
END:VEVENT
END:VCALENDAR