BEGIN:VCALENDAR
VERSION:2.0
PRODID:-//eventon.com NONSGML v1.0//EN
BEGIN:VEVENT
UID:69e6d8dbe2474
DTSTAMP:20260420T205435
DTSTART:20170526T023000Z
DTEND:20170526T045000Z
LOCATION:Speakeasy 412 Congress Ave\,  Austin\,  Texas 78701
SUMMARY:NYOB
DESCRIPTION: NYOB
END:VEVENT
END:VCALENDAR