BEGIN:VCALENDAR
VERSION:2.0
PRODID:-//eventon.com NONSGML v1.0//EN
BEGIN:VEVENT
UID:69e6d873a768c
DTSTAMP:20260420T205251
DTSTART:20170524T023000Z
DTEND:20170524T045000Z
LOCATION:Speakeasy 412 Congress Ave\,  Austin\,  Texas 78701
SUMMARY:Kenny McCardle
DESCRIPTION: Kenny McCardle
END:VEVENT
END:VCALENDAR