BEGIN:VCALENDAR
VERSION:2.0
PRODID:-//eventon.com NONSGML v1.0//EN
BEGIN:VEVENT
UID:69e6aab8612e5
DTSTAMP:20260420T173744
DTSTART:20170521T024500Z
DTEND:20170521T045000Z
LOCATION:Speakeasy 412 Congress Ave\,  Austin\,  Texas 78701
SUMMARY:Austin Party Band (+ Audry Oliver Happy Hour)
DESCRIPTION: 7 - 9 PM Audry Oliver 9:45 PM Austin Party Band
END:VEVENT
END:VCALENDAR