BEGIN:VCALENDAR
VERSION:2.0
PRODID:-//eventon.com NONSGML v1.0//EN
BEGIN:VEVENT
UID:69e693c403abb
DTSTAMP:20260420T155948
DTSTART:20170520T024500Z
DTEND:20170520T045000Z
LOCATION:Speakeasy 412 Congress Ave\,  Austin\,  Texas 78701
SUMMARY:Rock Hard (+ Nick Swift Happy Hour)
DESCRIPTION: 7 - 9 PM Nick Swift 9:45 PM Rock Hard
END:VEVENT
END:VCALENDAR