BEGIN:VCALENDAR
VERSION:2.0
PRODID:-//eventon.com NONSGML v1.0//EN
BEGIN:VEVENT
UID:69e67c4c031e9
DTSTAMP:20260420T141940
DTSTART:20170519T023000Z
DTEND:20170519T045000Z
LOCATION:Speakeasy 412 Congress Ave\,  Austin\,  Texas 78701
SUMMARY:The Vinyl Revival
DESCRIPTION: The Vinyl Revival
END:VEVENT
END:VCALENDAR