BEGIN:VCALENDAR
VERSION:2.0
PRODID:-//eventon.com NONSGML v1.0//EN
BEGIN:VEVENT
UID:69e6642c0c0a4
DTSTAMP:20260420T123644
DTSTART:20170518T023000Z
DTEND:20170518T045000Z
LOCATION:
SUMMARY:Brandon Bentley
DESCRIPTION: Brandon Bentley
END:VEVENT
END:VCALENDAR