BEGIN:VCALENDAR
VERSION:2.0
PRODID:-//eventon.com NONSGML v1.0//EN
BEGIN:VEVENT
UID:69e661f76320a
DTSTAMP:20260420T122719
DTSTART:20170514T024500Z
DTEND:20170514T045000Z
LOCATION:Speakeasy 412 Congress Ave\,  Austin\,  Texas 78701
SUMMARY:Steady Legend (+ Jelly Happy Hour)
DESCRIPTION: 7:00pm Jelly 9:45pm Steady Legend
END:VEVENT
END:VCALENDAR