BEGIN:VCALENDAR
VERSION:2.0
PRODID:-//eventon.com NONSGML v1.0//EN
BEGIN:VEVENT
UID:69e64a6c5394b
DTSTAMP:20260420T104652
DTSTART:20170512T030000Z
DTEND:20170512T045000Z
LOCATION:
SUMMARY:Steep Cats
DESCRIPTION: Steep Cats
END:VEVENT
END:VCALENDAR